BEGIN:VCALENDAR
VERSION:2.0
PRODID:-//Squarespace Inc/Squarespace 6//v6//EN
BEGIN:VEVENT
UID:5646de3ee4b09c89fbce598f@squarespace.com
DTSTAMP:20151120T133215Z
DTSTART:20151120T133000Z
DTEND:20160104T143000Z
SUMMARY:Booked
END:VEVENT
END:VCALENDAR
